BEGIN:VCALENDAR
VERSION:2.0
PRODID:-//eventon.com NONSGML v1.0//EN
BEGIN:VEVENT
UID:69ec39471e2e7
DTSTAMP:20260425T054719
DTSTART:20200430T220000Z
DTEND:20200501T215900Z
LOCATION:
SUMMARY:Bad Nauheim\,  Theater am Park\,  Chill mal (verlegt auf den 01.11.2020)
DESCRIPTION: Bad Nauheim\,  Theater am Park\,  Chill mal (verlegt auf den 01.11.2020)
END:VEVENT
END:VCALENDAR