BEGIN:VCALENDAR
VERSION:2.0
PRODID:-//eventon.com NONSGML v1.0//EN
BEGIN:VEVENT
UID:69ec98a623428
DTSTAMP:20260425T123414
DTSTART:20200124T220500Z
DTEND:20200125T215500Z
LOCATION:
SUMMARY:Grolsheim\,  Nahelandhalle\,  TuS\,  Fastnacht
DESCRIPTION: Grolsheim\,  Nahelandhalle\,  TuS\,  Fastnacht
END:VEVENT
END:VCALENDAR