BEGIN:VCALENDAR
VERSION:2.0
PRODID:-//eventon.com NONSGML v1.0//EN
BEGIN:VEVENT
UID:69ecb4b8ec760
DTSTAMP:20260425T143400
DTSTART:20200402T220000Z
DTEND:20200403T215900Z
LOCATION:
SUMMARY:Augsburg\,  Kresslesmühle\,  Chill mal (verlegt auf 21.03.2021)
DESCRIPTION: Augsburg\,  Kresslesmühle\,  Chill mal (verlegt auf 21.03.2021)
END:VEVENT
END:VCALENDAR